BEGIN:VCALENDAR
VERSION:2.0
PRODID:-//Contratero//ES
CALSCALE:GREGORIAN
METHOD:PUBLISH
BEGIN:VEVENT
UID:DNA 58/2024@contratero.es
DTSTAMP:20260424T051003Z
DTSTART:20240325T235959
DTEND:20240326T005959
SUMMARY:Cierre: Actualización y mantenimiento de licencias easypro
DESCRIPTION:Actualización y mantenimiento de licencias easyprof\\n\\nOrganismo: Dirección Económico-Financiera de ENAIRE\\n\\nVer en Contratero: https://contratero.es/contracts/DNA 58/2024
URL:https://contratero.es/contracts/DNA 58/2024
STATUS:CONFIRMED
BEGIN:VALARM
TRIGGER:-P1D
ACTION:DISPLAY
DESCRIPTION:Recordatorio: Actualización y mantenimiento 
END:VALARM
END:VEVENT
END:VCALENDAR